BEGIN:VCALENDAR
VERSION:2.0
PRODID:-//HIGH POWER RIFLE &amp; PISTOL CLUB OF YUMA - ECPv6.15.20//NONSGML v1.0//EN
CALSCALE:GREGORIAN
METHOD:PUBLISH
X-WR-CALNAME:HIGH POWER RIFLE &amp; PISTOL CLUB OF YUMA
X-ORIGINAL-URL:https://hprifleyuma.com
X-WR-CALDESC:Events for HIGH POWER RIFLE &amp; PISTOL CLUB OF YUMA
REFRESH-INTERVAL;VALUE=DURATION:PT1H
X-Robots-Tag:noindex
X-PUBLISHED-TTL:PT1H
BEGIN:VTIMEZONE
TZID:America/Phoenix
BEGIN:STANDARD
TZOFFSETFROM:-0700
TZOFFSETTO:-0700
TZNAME:MST
DTSTART:20250101T000000
END:STANDARD
END:VTIMEZONE
BEGIN:VEVENT
DTSTART;TZID=America/Phoenix:20260214T080000
DTEND;TZID=America/Phoenix:20260214T100000
DTSTAMP:20260423T120625
CREATED:20260120T231702Z
LAST-MODIFIED:20260120T232257Z
UID:988-1771056000-1771063200@hprifleyuma.com
SUMMARY:Vintage/Modern Vintage Rifle Match
DESCRIPTION:
URL:https://hprifleyuma.com/event/vintage-modern-vintage-match/
END:VEVENT
BEGIN:VEVENT
DTSTART;TZID=America/Phoenix:20260221T080000
DTEND;TZID=America/Phoenix:20260221T100000
DTSTAMP:20260423T120625
CREATED:20260120T232221Z
LAST-MODIFIED:20260120T232221Z
UID:990-1771660800-1771668000@hprifleyuma.com
SUMMARY:1000 Yd Rifle Match
DESCRIPTION:
URL:https://hprifleyuma.com/event/1000-yd-rifle-match/
END:VEVENT
END:VCALENDAR