BEGIN:VCALENDAR
VERSION:2.0
PRODID:-//HIGH POWER RIFLE &amp; PISTOL CLUB OF YUMA - ECPv6.15.20//NONSGML v1.0//EN
CALSCALE:GREGORIAN
METHOD:PUBLISH
X-ORIGINAL-URL:https://hprifleyuma.com
X-WR-CALDESC:Events for HIGH POWER RIFLE &amp; PISTOL CLUB OF YUMA
REFRESH-INTERVAL;VALUE=DURATION:PT1H
X-Robots-Tag:noindex
X-PUBLISHED-TTL:PT1H
BEGIN:VTIMEZONE
TZID:America/Phoenix
BEGIN:STANDARD
TZOFFSETFROM:-0700
TZOFFSETTO:-0700
TZNAME:MST
DTSTART:20250101T000000
END:STANDARD
END:VTIMEZONE
BEGIN:VEVENT
DTSTART;TZID=America/Phoenix:20260314T073000
DTEND;TZID=America/Phoenix:20260314T100000
DTSTAMP:20260423T121053
CREATED:20260120T232650Z
LAST-MODIFIED:20260222T221125Z
UID:992-1773473400-1773482400@hprifleyuma.com
SUMMARY:Vintage/Modern Vintage Rifle Match
DESCRIPTION:
URL:https://hprifleyuma.com/event/vintage-modern-vintage-rifle-match/
END:VEVENT
BEGIN:VEVENT
DTSTART;TZID=America/Phoenix:20260321T073000
DTEND;TZID=America/Phoenix:20260321T100000
DTSTAMP:20260423T121053
CREATED:20260120T232133Z
LAST-MODIFIED:20260222T221158Z
UID:994-1774078200-1774087200@hprifleyuma.com
SUMMARY:600 Yd Rifle Match
DESCRIPTION:
URL:https://hprifleyuma.com/event/600-yd-rifle-match/
END:VEVENT
BEGIN:VEVENT
DTSTART;TZID=America/Phoenix:20260328T073000
DTEND;TZID=America/Phoenix:20260328T140000
DTSTAMP:20260423T121053
CREATED:20260120T232602Z
LAST-MODIFIED:20260222T221230Z
UID:997-1774683000-1774706400@hprifleyuma.com
SUMMARY:Yuma Blackjack Shootout Charity Match
DESCRIPTION: 
URL:https://hprifleyuma.com/event/yuma-blackjack-shootout-charity-match/
END:VEVENT
BEGIN:VEVENT
DTSTART;TZID=America/Phoenix:20260411T073000
DTEND;TZID=America/Phoenix:20260411T100000
DTSTAMP:20260423T121053
CREATED:20260120T232832Z
LAST-MODIFIED:20260322T215830Z
UID:999-1775892600-1775901600@hprifleyuma.com
SUMMARY:Vintage/Modern Vintage Rifle Match
DESCRIPTION:
URL:https://hprifleyuma.com/event/vintage-modern-vintage-rifle-match-2/
END:VEVENT
BEGIN:VEVENT
DTSTART;TZID=America/Phoenix:20260418T073000
DTEND;TZID=America/Phoenix:20260418T100000
DTSTAMP:20260423T121053
CREATED:20260120T232925Z
LAST-MODIFIED:20260322T215903Z
UID:1001-1776497400-1776506400@hprifleyuma.com
SUMMARY:600 Yd Rifle Match
DESCRIPTION:
URL:https://hprifleyuma.com/event/600-yd-rifle-match-2/
END:VEVENT
BEGIN:VEVENT
DTSTART;TZID=America/Phoenix:20260509T070000
DTEND;TZID=America/Phoenix:20260509T100000
DTSTAMP:20260423T121053
CREATED:20260120T233032Z
LAST-MODIFIED:20260120T233032Z
UID:1003-1778310000-1778320800@hprifleyuma.com
SUMMARY:Vintage/Modern Vintage Rifle Match
DESCRIPTION:
URL:https://hprifleyuma.com/event/vintage-modern-vintage-rifle-match-3/
END:VEVENT
BEGIN:VEVENT
DTSTART;TZID=America/Phoenix:20260516T070000
DTEND;TZID=America/Phoenix:20260516T100000
DTSTAMP:20260423T121053
CREATED:20260120T233117Z
LAST-MODIFIED:20260120T233117Z
UID:1005-1778914800-1778925600@hprifleyuma.com
SUMMARY:1000 Yd Rifle Match
DESCRIPTION:
URL:https://hprifleyuma.com/event/1000-yd-rifle-match-2/
END:VEVENT
END:VCALENDAR