BEGIN:VCALENDAR
VERSION:2.0
PRODID:-//HIGH POWER RIFLE &amp; PISTOL CLUB OF YUMA - ECPv6.15.20//NONSGML v1.0//EN
CALSCALE:GREGORIAN
METHOD:PUBLISH
X-WR-CALNAME:HIGH POWER RIFLE &amp; PISTOL CLUB OF YUMA
X-ORIGINAL-URL:https://hprifleyuma.com
X-WR-CALDESC:Events for HIGH POWER RIFLE &amp; PISTOL CLUB OF YUMA
REFRESH-INTERVAL;VALUE=DURATION:PT1H
X-Robots-Tag:noindex
X-PUBLISHED-TTL:PT1H
BEGIN:VTIMEZONE
TZID:America/Phoenix
BEGIN:STANDARD
TZOFFSETFROM:-0700
TZOFFSETTO:-0700
TZNAME:MST
DTSTART:20250101T000000
END:STANDARD
END:VTIMEZONE
BEGIN:VEVENT
DTSTART;TZID=America/Phoenix:20260509T070000
DTEND;TZID=America/Phoenix:20260509T100000
DTSTAMP:20260423T122434
CREATED:20260120T233032Z
LAST-MODIFIED:20260120T233032Z
UID:1003-1778310000-1778320800@hprifleyuma.com
SUMMARY:Vintage/Modern Vintage Rifle Match
DESCRIPTION:
URL:https://hprifleyuma.com/event/vintage-modern-vintage-rifle-match-3/
END:VEVENT
BEGIN:VEVENT
DTSTART;TZID=America/Phoenix:20260516T070000
DTEND;TZID=America/Phoenix:20260516T100000
DTSTAMP:20260423T122434
CREATED:20260120T233117Z
LAST-MODIFIED:20260120T233117Z
UID:1005-1778914800-1778925600@hprifleyuma.com
SUMMARY:1000 Yd Rifle Match
DESCRIPTION:
URL:https://hprifleyuma.com/event/1000-yd-rifle-match-2/
END:VEVENT
END:VCALENDAR